BEGIN:VCALENDAR
VERSION:2.0
PRODID:-//Clínicas Mediart - ECPv5.8.1//NONSGML v1.0//EN
CALSCALE:GREGORIAN
METHOD:PUBLISH
X-WR-CALNAME:Clínicas Mediart
X-ORIGINAL-URL:https://clinicasmediart.com
X-WR-CALDESC:Eventos para Clínicas Mediart
BEGIN:VTIMEZONE
TZID:UTC
BEGIN:STANDARD
TZOFFSETFROM:+0000
TZOFFSETTO:+0000
TZNAME:UTC
DTSTART:20180101T000000
END:STANDARD
END:VTIMEZONE
BEGIN:VEVENT
DTSTART;TZID=UTC:20180901T200000
DTEND;TZID=UTC:20250901T233000
DTSTAMP:20260423T090502
CREATED:20160425T104324Z
LAST-MODIFIED:20170805T071328Z
UID:7538-1535832000-1756769400@clinicasmediart.com
SUMMARY:Rock Concert
DESCRIPTION:Hey\, Luke! May the Force be with you. Look\, I ain’t in this for your revolution\, and I’m not in it for you\, Princess. I expect to be well paid. I’m in it for the money. Ye-ha! What good is a reward if you ain’t around to use it? Besides\, attacking that battle station ain’t my idea of courage. It’s more like…suicide. Hey\, Luke! May the Force be with you. But with the blast shield down\, I can’t even see! How am I supposed to fight?
URL:https://clinicasmediart.com/event/rock-concert/
LOCATION:Doug Fir Lounge\, 830 E. Burnside St.\, Portland\, OR\, 97214\, United States
CATEGORIES:Nightlife
ATTACH;FMTTYPE=image/jpeg:https://clinicasmediart.com/wp-content/uploads/2016/04/event-2.jpg
ORGANIZER;CN="Elvis%20Presley":MAILTO:rocknroll@hotmail.com
END:VEVENT
END:VCALENDAR