BEGIN:VCALENDAR
VERSION:2.0
PRODID:-//Clínicas Mediart - ECPv5.8.1//NONSGML v1.0//EN
CALSCALE:GREGORIAN
METHOD:PUBLISH
X-WR-CALNAME:Clínicas Mediart
X-ORIGINAL-URL:https://clinicasmediart.com
X-WR-CALDESC:Eventos para Clínicas Mediart
BEGIN:VTIMEZONE
TZID:UTC
BEGIN:STANDARD
TZOFFSETFROM:+0000
TZOFFSETTO:+0000
TZNAME:UTC
DTSTART:20180101T000000
END:STANDARD
END:VTIMEZONE
BEGIN:VEVENT
DTSTART;TZID=UTC:20180814T100000
DTEND;TZID=UTC:20250814T200000
DTSTAMP:20260424T035346
CREATED:20160425T104319Z
LAST-MODIFIED:20170805T071339Z
UID:7533-1534240800-1755201600@clinicasmediart.com
SUMMARY:Movie Marathon
DESCRIPTION:What’s the point of going out? We’re just going to wind up back here anyway. I’m going to the back seat of my car\, with the woman I love\, and I won’t be back for ten minutes! And now\, in the spirit of the season: start shopping. And for every dollar of Krusty merchandise you buy\, I will be nice to a sick kid. For legal purposes\, sick kids may include hookers with a cold. The Internet King? I wonder if he could provide faster nudity… Yes! I am a citizen! Now which way to the welfare office? I’m kidding\, I’m kidding. I work\, I work.
URL:https://clinicasmediart.com/event/movie-marathon/
LOCATION:Winchester Mystery House\, 525 S Winchester Blvd\, San Jose\, CA\, 95128\, United States
CATEGORIES:Family Fun
ATTACH;FMTTYPE=image/jpeg:https://clinicasmediart.com/wp-content/uploads/2016/04/event-3.jpg
END:VEVENT
BEGIN:VEVENT
DTSTART;TZID=UTC:20190707T133000
DTEND;TZID=UTC:20250707T153000
DTSTAMP:20260424T035346
CREATED:20160425T104322Z
LAST-MODIFIED:20170805T071421Z
UID:7536-1562506200-1751902200@clinicasmediart.com
SUMMARY:Cupcake Decorating
DESCRIPTION:Oh God\, my uncle. How am I ever gonna explain this? The plans you refer to will soon be back in our hands. I suggest you try it again\, Luke. This time\, let go your conscious self and act on instinct. I want to come with you to Alderaan. There’s nothing for me here now. I want to learn the ways of the Force and be a Jedi\, like my father before me. As you wish. I don’t know what you’re talking about. I am a member of the Imperial Senate on a diplomatic mission to Alderaan–
URL:https://clinicasmediart.com/event/cupcake-decorating/
LOCATION:The Corn Palace\, 601 N Main St\, Mitchell\, SD\, 57301\, United States
CATEGORIES:Family Fun
ATTACH;FMTTYPE=image/jpeg:https://clinicasmediart.com/wp-content/uploads/2016/04/event-7.jpg
ORGANIZER;CN="Sammy%20Sosa":MAILTO:baseball@hotmail.com
END:VEVENT
END:VCALENDAR